BEGIN:VCALENDAR
VERSION:2.0
PRODID:-//casaofterrebonne.org//NONSGML kigkonsult.se iCalcreator 2.30.10//
CALSCALE:GREGORIAN
METHOD:PUBLISH
UID:91bddb0a-659c-4f89-a79a-ce30e5bd0fa7
X-WR-CALDESC:VOLUNTEER INFO SESSION\n\nThe mission of CASA of Terrebonne\, 
 Inc. is to provide trained community volunteers\, to advocate for the best
  interests of abused and neglected children\, and to promote community awa
 reness about child abuse issues. Currently\, CASA of Terrebonne is serving
  over 70 children in foster care\, yet there are still over 130 children w
 e are unable to reach–we need passionate advocates to speak up for these c
 hildren.\n\nInfo Sessions are the first step to becoming a CASA\, and they
  are also helpful for learning more about our mission.\n\nThese 1 hour ses
 sions are designed to answer your questions about what it takes to be a Co
 urt Appointed Special Advocates for children in foster care in Terrebonne 
 Parish.\n\nIf you are interested in attending a Info Session\, please clic
 k RESERVE YOUR SPOT and register for the session.\n\nType the number of pe
 rson(s) who wish to attend. Depending on the number of parties interested 
 and complying with state guidelines for public safety\, this event may be 
 hosted virtually and will be held on Zoom.\n\nIf you have any further ques
 tions please contact Christine Aucoin at caucoin@casaofterrebonne.org or 9
 85-876-0250.\n\n*PLEASE NOTE: IF INTERESTED IN ATTENDING A SESSION\, PLEAS
 E RSVP BY CLICKING THE LINK\n'RESERVE YOUR SPOT' ABOVE.\nIf you are having
  trouble please call 985-876-0250.
X-WR-RELCALID:018e12d614818a0f7fa8f8f66ab9136a
X-WR-TIMEZONE:America/Chicago
BEGIN:VTIMEZONE
TZID:America/Chicago
BEGIN:STANDARD
TZNAME:CST
DTSTART:20201101T020000
TZOFFSETFROM:-0500
TZOFFSETTO:-0600
RDATE:20211107T020000
END:STANDARD
BEGIN:DAYLIGHT
TZNAME:CDT
DTSTART:20200308T020000
TZOFFSETFROM:-0600
TZOFFSETTO:-0500
RDATE:20210314T020000
RDATE:20220313T020000
END:DAYLIGHT
END:VTIMEZONE
BEGIN:VEVENT
UID:350ed346-0835-40b2-b595-839545af8c22
DTSTAMP:20260424T054923Z
DESCRIPTION:VOLUNTEER INFO SESSION\n\nThe mission of CASA of Terrebonne\, I
 nc. is to provide trained community volunteers\, to advocate for the best 
 interests of abused and neglected children\, and to promote community awar
 eness about child abuse issues. Currently\, CASA of Terrebonne is serving 
 over 70 children in foster care\, yet there are still over 130 children we
  are unable to reach–we need passionate advocates to speak up for these ch
 ildren.\n\nInfo Sessions are the first step to becoming a CASA\, and they 
 are also helpful for learning more about our mission.\n\nThese 1 hour sess
 ions are designed to answer your questions about what it takes to be a Cou
 rt Appointed Special Advocates for children in foster care in Terrebonne P
 arish.\n\nIf you are interested in attending a Info Session\, please click
  RESERVE YOUR SPOT and register for the session.\n\nType the number of per
 son(s) who wish to attend. Depending on the number of parties interested a
 nd complying with state guidelines for public safety\, this event may be h
 osted virtually and will be held on Zoom.\n\nIf you have any further quest
 ions please contact Christine Aucoin at caucoin@casaofterrebonne.org or 98
 5-876-0250.\n\n*PLEASE NOTE: IF INTERESTED IN ATTENDING A SESSION\, PLEASE
  RSVP BY CLICKING THE LINK\n'RESERVE YOUR SPOT' ABOVE.\nIf you are having 
 trouble please call 985-876-0250.
DTSTART;TZID=America/Chicago:20210112T173000
DTEND;TZID=America/Chicago:20210112T183000
LOCATION:402 Canal St.\, Houma\, LA 70360 US
SUMMARY:Info Session
END:VEVENT
END:VCALENDAR
