BEGIN:VCALENDAR
VERSION:2.0
PRODID:-//casaofterrebonne.org//NONSGML kigkonsult.se iCalcreator 2.30.10//
CALSCALE:GREGORIAN
METHOD:PUBLISH
UID:a9e907de-5913-4daa-80d9-61f3d4b09a0d
X-WR-CALDESC:
X-WR-RELCALID:7a819928ab1f043ef101a7d9a3980f5e
X-WR-TIMEZONE:America/Chicago
BEGIN:VTIMEZONE
TZID:America/Chicago
BEGIN:STANDARD
TZNAME:CST
DTSTART:20201101T020000
TZOFFSETFROM:-0500
TZOFFSETTO:-0600
RDATE:20211107T020000
END:STANDARD
BEGIN:DAYLIGHT
TZNAME:CDT
DTSTART:20200308T020000
TZOFFSETFROM:-0600
TZOFFSETTO:-0500
RDATE:20210314T020000
RDATE:20220313T020000
END:DAYLIGHT
END:VTIMEZONE
BEGIN:VEVENT
UID:52c666ce-b241-4f0b-809f-36ea3ddaf327
DTSTAMP:20260424T071302Z
DESCRIPTION:
DTSTART;TZID=America/Chicago:20201231T080000
DTEND;TZID=America/Chicago:20210101T160000
LOCATION:
SUMMARY:OFFICE CLOSED - New Years Holiday
END:VEVENT
END:VCALENDAR
