BEGIN:VCALENDAR
VERSION:2.0
PRODID:-//casaofterrebonne.org//NONSGML kigkonsult.se iCalcreator 2.30.10//
CALSCALE:GREGORIAN
METHOD:PUBLISH
UID:3c24fa21-813c-4d34-be4f-d54de2964d55
X-WR-CALDESC:
X-WR-RELCALID:23a318915983322099c5ee0f8d9f4bfc
X-WR-TIMEZONE:America/Chicago
BEGIN:VTIMEZONE
TZID:America/Chicago
BEGIN:STANDARD
TZNAME:CST
DTSTART:20201101T020000
TZOFFSETFROM:-0500
TZOFFSETTO:-0600
RDATE:20211107T020000
END:STANDARD
BEGIN:DAYLIGHT
TZNAME:CDT
DTSTART:20200308T020000
TZOFFSETFROM:-0600
TZOFFSETTO:-0500
RDATE:20210314T020000
RDATE:20220313T020000
END:DAYLIGHT
END:VTIMEZONE
BEGIN:VEVENT
UID:64b17ad6-487a-487b-92cd-92a49363cd29
DTSTAMP:20260424T071016Z
DESCRIPTION:
DTSTART;TZID=America/Chicago:20201224T080000
DTEND;TZID=America/Chicago:20201225T160000
LOCATION:
SUMMARY:OFFICE CLOSED - Christmas Holiday
END:VEVENT
END:VCALENDAR
