BEGIN:VCALENDAR
VERSION:2.0
PRODID:-//casaofterrebonne.org//NONSGML kigkonsult.se iCalcreator 2.30.10//
CALSCALE:GREGORIAN
METHOD:PUBLISH
UID:731c6e26-d374-43e8-91e6-4a7236f3b305
X-WR-CALDESC:
X-WR-RELCALID:83dd0a74c291cc302c79359b27f49115
X-WR-TIMEZONE:America/Chicago
BEGIN:VTIMEZONE
TZID:America/Chicago
BEGIN:STANDARD
TZNAME:CST
DTSTART:20201101T020000
TZOFFSETFROM:-0500
TZOFFSETTO:-0600
RDATE:20211107T020000
END:STANDARD
BEGIN:DAYLIGHT
TZNAME:CDT
DTSTART:20200308T020000
TZOFFSETFROM:-0600
TZOFFSETTO:-0500
RDATE:20210314T020000
RDATE:20220313T020000
END:DAYLIGHT
END:VTIMEZONE
BEGIN:VEVENT
UID:985edec4-d426-487d-b3ac-36859b5ca78d
DTSTAMP:20260424T085648Z
DESCRIPTION:
DTSTART;TZID=America/Chicago:20201126T000000
DTEND;TZID=America/Chicago:20201127T235900
LOCATION:
SUMMARY:THANKSGIVING HOLIDAYS - Office Closed
END:VEVENT
END:VCALENDAR
