BEGIN:VCALENDAR
VERSION:2.0
PRODID:-//casaofterrebonne.org//NONSGML kigkonsult.se iCalcreator 2.30.10//
CALSCALE:GREGORIAN
METHOD:PUBLISH
UID:1d0d86c1-558f-4543-9d6d-0b67d91b4e83
X-WR-CALDESC:LaEnergie Center\, Airbase\, Houma\, LA
X-WR-RELCALID:07dafa1e4a6da1a4d73ed6ce3ca6c7f0
X-WR-TIMEZONE:America/Chicago
BEGIN:VTIMEZONE
TZID:America/Chicago
BEGIN:STANDARD
TZNAME:CST
DTSTART:20201101T020000
TZOFFSETFROM:-0500
TZOFFSETTO:-0600
RDATE:20211107T020000
END:STANDARD
BEGIN:DAYLIGHT
TZNAME:CDT
DTSTART:20200308T020000
TZOFFSETFROM:-0600
TZOFFSETTO:-0500
RDATE:20210314T020000
RDATE:20220313T020000
END:DAYLIGHT
END:VTIMEZONE
BEGIN:VEVENT
UID:9e637e27-dfd7-45a8-9a8d-0c7493b2f90f
DTSTAMP:20260424T085208Z
DESCRIPTION:LaEnergie Center\, Airbase\, Houma\, LA
DTSTART;TZID=America/Chicago:20201113T183000
DTEND;TZID=America/Chicago:20201113T213000
LOCATION:
SUMMARY:Volunteer Social
END:VEVENT
END:VCALENDAR
