BEGIN:VCALENDAR
VERSION:2.0
PRODID:-//casaofterrebonne.org//NONSGML kigkonsult.se iCalcreator 2.30.10//
CALSCALE:GREGORIAN
METHOD:PUBLISH
UID:26167b12-6dde-4a38-822d-3ec77a4d4630
X-WR-CALDESC:
X-WR-RELCALID:b7674db7b2f3184ef8220c6dfc564515
X-WR-TIMEZONE:America/Chicago
BEGIN:VTIMEZONE
TZID:America/Chicago
BEGIN:STANDARD
TZNAME:CST
DTSTART:20201101T020000
TZOFFSETFROM:-0500
TZOFFSETTO:-0600
RDATE:20211107T020000
END:STANDARD
BEGIN:DAYLIGHT
TZNAME:CDT
DTSTART:20200308T020000
TZOFFSETFROM:-0600
TZOFFSETTO:-0500
RDATE:20210314T020000
RDATE:20220313T020000
END:DAYLIGHT
END:VTIMEZONE
BEGIN:VEVENT
UID:88eedd56-dfc8-40f4-b7c0-7cd4a6220638
DTSTAMP:20260424T085623Z
DESCRIPTION:
DTSTART;TZID=America/Chicago:20201104T083000
DTEND;TZID=America/Chicago:20201106T170000
LOCATION:
SUMMARY:Together We Can Conference
END:VEVENT
END:VCALENDAR
