BEGIN:VCALENDAR
VERSION:2.0
PRODID:-//casaofterrebonne.org//NONSGML kigkonsult.se iCalcreator 2.30.10//
CALSCALE:GREGORIAN
METHOD:PUBLISH
UID:14abdfa6-1568-4a18-a15e-7173ac6f3732
X-WR-CALDESC:
X-WR-RELCALID:8cc562a888fe5909cd0b20a84bc4efab
X-WR-TIMEZONE:America/Chicago
BEGIN:VTIMEZONE
TZID:America/Chicago
BEGIN:STANDARD
TZNAME:CST
DTSTART:20191103T020000
TZOFFSETFROM:-0500
TZOFFSETTO:-0600
RDATE:20201101T020000
RDATE:20211107T020000
END:STANDARD
BEGIN:DAYLIGHT
TZNAME:CDT
DTSTART:20200308T020000
TZOFFSETFROM:-0600
TZOFFSETTO:-0500
RDATE:20210314T020000
RDATE:20220313T020000
END:DAYLIGHT
END:VTIMEZONE
BEGIN:VEVENT
UID:294d771d-09a4-448b-82a5-302248918492
DTSTAMP:20260424T103153Z
DESCRIPTION:
DTSTART;TZID=America/Chicago:20201031T000000
DTEND;TZID=America/Chicago:20201031T235900
LOCATION:
SUMMARY:HAPPY HALLOWEEN!!
END:VEVENT
END:VCALENDAR
