BEGIN:VCALENDAR
VERSION:2.0
PRODID:-//casaofterrebonne.org//NONSGML kigkonsult.se iCalcreator 2.30.10//
CALSCALE:GREGORIAN
METHOD:PUBLISH
UID:b1dfbcb8-0aff-4ebd-87e5-194a2ac1ab03
X-WR-CALDESC:
X-WR-RELCALID:949f6a7b28691b9a1491f0ebb9d45c4b
X-WR-TIMEZONE:America/Chicago
BEGIN:VTIMEZONE
TZID:America/Chicago
BEGIN:STANDARD
TZNAME:CST
DTSTART:20191103T020000
TZOFFSETFROM:-0500
TZOFFSETTO:-0600
RDATE:20201101T020000
RDATE:20211107T020000
END:STANDARD
BEGIN:DAYLIGHT
TZNAME:CDT
DTSTART:20200308T020000
TZOFFSETFROM:-0600
TZOFFSETTO:-0500
RDATE:20210314T020000
RDATE:20220313T020000
END:DAYLIGHT
END:VTIMEZONE
BEGIN:VEVENT
UID:826aa41a-dcf6-4737-93b6-f750a473f8cc
DTSTAMP:20260424T101640Z
DESCRIPTION:
DTSTART;TZID=America/Chicago:20201020T090000
DTEND;TZID=America/Chicago:20201021T160000
LOCATION:
SUMMARY:National CASA Conference
END:VEVENT
END:VCALENDAR
