BEGIN:VCALENDAR
VERSION:2.0
PRODID:-//casaofterrebonne.org//NONSGML kigkonsult.se iCalcreator 2.30.10//
CALSCALE:GREGORIAN
METHOD:PUBLISH
UID:3e473e44-3a64-4707-b421-196fae23a9a8
X-WR-CALDESC:
X-WR-RELCALID:01c6ecf4cc9d92a70619f07dcabaebb4
X-WR-TIMEZONE:America/Chicago
BEGIN:VTIMEZONE
TZID:America/Chicago
BEGIN:STANDARD
TZNAME:CST
DTSTART:20191103T020000
TZOFFSETFROM:-0500
TZOFFSETTO:-0600
RDATE:20201101T020000
RDATE:20211107T020000
END:STANDARD
BEGIN:DAYLIGHT
TZNAME:CDT
DTSTART:20200308T020000
TZOFFSETFROM:-0600
TZOFFSETTO:-0500
RDATE:20210314T020000
RDATE:20220313T020000
END:DAYLIGHT
END:VTIMEZONE
BEGIN:VEVENT
UID:28328a3d-f66f-4f69-861c-04386d77558a
DTSTAMP:20260424T102733Z
DESCRIPTION:
DTSTART;TZID=America/Chicago:20201012T000000
DTEND;TZID=America/Chicago:20201012T235900
LOCATION:
SUMMARY:OFFICE CLOSED - Columbus Day
END:VEVENT
END:VCALENDAR
