BEGIN:VCALENDAR
VERSION:2.0
PRODID:-//casaofterrebonne.org//NONSGML kigkonsult.se iCalcreator 2.30.10//
CALSCALE:GREGORIAN
METHOD:PUBLISH
UID:9d1a81bf-79b8-4bcf-af83-b28a2cacf1f3
X-WR-CALDESC:
X-WR-RELCALID:e5ba8ffa26f88df6594ff3da7763c920
X-WR-TIMEZONE:America/Chicago
BEGIN:VTIMEZONE
TZID:America/Chicago
BEGIN:STANDARD
TZNAME:CST
DTSTART:20191103T020000
TZOFFSETFROM:-0500
TZOFFSETTO:-0600
RDATE:20201101T020000
RDATE:20211107T020000
END:STANDARD
BEGIN:DAYLIGHT
TZNAME:CDT
DTSTART:20200308T020000
TZOFFSETFROM:-0600
TZOFFSETTO:-0500
RDATE:20210314T020000
RDATE:20220313T020000
END:DAYLIGHT
END:VTIMEZONE
BEGIN:VEVENT
UID:c6f6e1fe-302a-40bf-8b16-89ba1598c7d9
DTSTAMP:20260424T102139Z
DESCRIPTION:
DTSTART;TZID=America/Chicago:20201006T173000
DTEND;TZID=America/Chicago:20201006T190000
LOCATION:
SUMMARY:Orientation - Class #57
END:VEVENT
END:VCALENDAR
