BEGIN:VCALENDAR
VERSION:2.0
PRODID:-//casaofterrebonne.org//NONSGML kigkonsult.se iCalcreator 2.30.10//
CALSCALE:GREGORIAN
METHOD:PUBLISH
UID:44435a84-e1d7-4e3f-bf0c-b8fe13544ea6
X-WR-CALDESC:
X-WR-RELCALID:e7d9402dc9e1ec58468c031ba703b601
X-WR-TIMEZONE:America/Chicago
BEGIN:VTIMEZONE
TZID:America/Chicago
BEGIN:STANDARD
TZNAME:CST
DTSTART:20191103T020000
TZOFFSETFROM:-0500
TZOFFSETTO:-0600
RDATE:20201101T020000
RDATE:20211107T020000
END:STANDARD
BEGIN:DAYLIGHT
TZNAME:CDT
DTSTART:20200308T020000
TZOFFSETFROM:-0600
TZOFFSETTO:-0500
RDATE:20210314T020000
RDATE:20220313T020000
END:DAYLIGHT
END:VTIMEZONE
BEGIN:VEVENT
UID:3bed0f6d-a6a2-4c48-a86b-f52ac1edd389
DTSTAMP:20260424T115507Z
DESCRIPTION:
DTSTART;TZID=America/Chicago:20200929T090000
DTEND;TZID=America/Chicago:20200929T100000
LOCATION:
SUMMARY:Yvonne White-Permanency Review
END:VEVENT
END:VCALENDAR
