BEGIN:VCALENDAR
VERSION:2.0
PRODID:-//casaofterrebonne.org//NONSGML kigkonsult.se iCalcreator 2.30.10//
CALSCALE:GREGORIAN
METHOD:PUBLISH
UID:fad841b0-14e4-4b96-aaae-6c70ea46fdd0
X-WR-CALDESC:
X-WR-RELCALID:fba0163f73d1ad39ceb82e559c30a2dd
X-WR-TIMEZONE:America/Chicago
BEGIN:VTIMEZONE
TZID:America/Chicago
BEGIN:STANDARD
TZNAME:CST
DTSTART:20191103T020000
TZOFFSETFROM:-0500
TZOFFSETTO:-0600
RDATE:20201101T020000
RDATE:20211107T020000
END:STANDARD
BEGIN:DAYLIGHT
TZNAME:CDT
DTSTART:20200308T020000
TZOFFSETFROM:-0600
TZOFFSETTO:-0500
RDATE:20210314T020000
RDATE:20220313T020000
END:DAYLIGHT
END:VTIMEZONE
BEGIN:VEVENT
UID:9a7bf277-4732-412a-8361-7ff73f4e8d6a
DTSTAMP:20260424T115808Z
DESCRIPTION:
DTSTART;TZID=America/Chicago:20200929T090000
DTEND;TZID=America/Chicago:20200929T100000
LOCATION:
SUMMARY:Jennifer Burrough-Case Review
END:VEVENT
END:VCALENDAR
