BEGIN:VCALENDAR
VERSION:2.0
PRODID:-//casaofterrebonne.org//NONSGML kigkonsult.se iCalcreator 2.30.10//
CALSCALE:GREGORIAN
METHOD:PUBLISH
UID:77d431ac-9134-4003-8cdd-043cfae43718
X-WR-CALDESC:
X-WR-RELCALID:38e9cad0935612f9bf31d3af2c7f0eef
X-WR-TIMEZONE:America/Chicago
BEGIN:VTIMEZONE
TZID:America/Chicago
BEGIN:STANDARD
TZNAME:CST
DTSTART:20191103T020000
TZOFFSETFROM:-0500
TZOFFSETTO:-0600
RDATE:20201101T020000
RDATE:20211107T020000
END:STANDARD
BEGIN:DAYLIGHT
TZNAME:CDT
DTSTART:20200308T020000
TZOFFSETFROM:-0600
TZOFFSETTO:-0500
RDATE:20210314T020000
RDATE:20220313T020000
END:DAYLIGHT
END:VTIMEZONE
BEGIN:VEVENT
UID:babb0dd5-4d4a-44dd-b5c2-3878fcd11ff5
DTSTAMP:20260424T115507Z
DESCRIPTION:
DTSTART;TZID=America/Chicago:20200929T090000
DTEND;TZID=America/Chicago:20200929T100000
LOCATION:
SUMMARY:Alicia Dove-Permanency
END:VEVENT
END:VCALENDAR
