BEGIN:VCALENDAR
VERSION:2.0
PRODID:-//casaofterrebonne.org//NONSGML kigkonsult.se iCalcreator 2.30.10//
CALSCALE:GREGORIAN
METHOD:PUBLISH
UID:ef3ac9b3-11e6-4144-bbba-9a0a25f4832b
X-WR-CALDESC:
X-WR-RELCALID:92fff4abd63152ad63142bb6ba9697d8
X-WR-TIMEZONE:America/Chicago
BEGIN:VTIMEZONE
TZID:America/Chicago
BEGIN:STANDARD
TZNAME:CST
DTSTART:20191103T020000
TZOFFSETFROM:-0500
TZOFFSETTO:-0600
RDATE:20201101T020000
RDATE:20211107T020000
END:STANDARD
BEGIN:DAYLIGHT
TZNAME:CDT
DTSTART:20200308T020000
TZOFFSETFROM:-0600
TZOFFSETTO:-0500
RDATE:20210314T020000
RDATE:20220313T020000
END:DAYLIGHT
END:VTIMEZONE
BEGIN:VEVENT
UID:02c194bf-9dac-4e97-9fd4-fb7015a76fa5
DTSTAMP:20260424T115256Z
DESCRIPTION:
DTSTART;TZID=America/Chicago:20200923T090000
DTEND;TZID=America/Chicago:20200923T100000
LOCATION:
SUMMARY:Rhonda Lovell-Permanency
END:VEVENT
END:VCALENDAR
