BEGIN:VCALENDAR
VERSION:2.0
PRODID:-//casaofterrebonne.org//NONSGML kigkonsult.se iCalcreator 2.30.10//
CALSCALE:GREGORIAN
METHOD:PUBLISH
UID:5d4113d8-3a22-4dd0-8e38-11f2c767a2c7
X-WR-CALDESC:
X-WR-RELCALID:7a802a4d417738d52174cf32226509fb
X-WR-TIMEZONE:America/Chicago
BEGIN:VTIMEZONE
TZID:America/Chicago
BEGIN:STANDARD
TZNAME:CST
DTSTART:20191103T020000
TZOFFSETFROM:-0500
TZOFFSETTO:-0600
RDATE:20201101T020000
RDATE:20211107T020000
END:STANDARD
BEGIN:DAYLIGHT
TZNAME:CDT
DTSTART:20200308T020000
TZOFFSETFROM:-0600
TZOFFSETTO:-0500
RDATE:20210314T020000
RDATE:20220313T020000
END:DAYLIGHT
END:VTIMEZONE
BEGIN:VEVENT
UID:1e4f1ade-f643-4f56-9321-f81b4580bf75
DTSTAMP:20260424T115712Z
DESCRIPTION:
DTSTART;TZID=America/Chicago:20200923T090000
DTEND;TZID=America/Chicago:20200923T100000
LOCATION:
SUMMARY:Mitzi Rieve-Permanency
END:VEVENT
END:VCALENDAR
