BEGIN:VCALENDAR
VERSION:2.0
PRODID:-//casaofterrebonne.org//NONSGML kigkonsult.se iCalcreator 2.30.10//
CALSCALE:GREGORIAN
METHOD:PUBLISH
UID:f2600cac-9f73-4ba7-a7d2-7148aaa80f97
X-WR-CALDESC:
X-WR-RELCALID:6e08bb519b614ef6c66489de91f97631
X-WR-TIMEZONE:America/Chicago
BEGIN:VTIMEZONE
TZID:America/Chicago
BEGIN:STANDARD
TZNAME:CST
DTSTART:20191103T020000
TZOFFSETFROM:-0500
TZOFFSETTO:-0600
RDATE:20201101T020000
RDATE:20211107T020000
END:STANDARD
BEGIN:DAYLIGHT
TZNAME:CDT
DTSTART:20200308T020000
TZOFFSETFROM:-0600
TZOFFSETTO:-0500
RDATE:20210314T020000
RDATE:20220313T020000
END:DAYLIGHT
END:VTIMEZONE
BEGIN:VEVENT
UID:330821f7-0928-4aa5-b29d-a5949ccd375b
DTSTAMP:20260424T120447Z
DESCRIPTION:
DTSTART;TZID=America/Chicago:20200922T090000
DTEND;TZID=America/Chicago:20200922T100000
LOCATION:
SUMMARY:Norma Macks-Case Review
END:VEVENT
END:VCALENDAR
