BEGIN:VCALENDAR
VERSION:2.0
PRODID:-//casaofterrebonne.org//NONSGML kigkonsult.se iCalcreator 2.30.10//
CALSCALE:GREGORIAN
METHOD:PUBLISH
UID:db3a10c6-8cab-4dbe-9470-f4b664d1bdb8
X-WR-CALDESC:
X-WR-RELCALID:1e7d36968b45ec50e64ed7caafc6d348
X-WR-TIMEZONE:America/Chicago
BEGIN:VTIMEZONE
TZID:America/Chicago
BEGIN:STANDARD
TZNAME:CST
DTSTART:20191103T020000
TZOFFSETFROM:-0500
TZOFFSETTO:-0600
RDATE:20201101T020000
RDATE:20211107T020000
END:STANDARD
BEGIN:DAYLIGHT
TZNAME:CDT
DTSTART:20200308T020000
TZOFFSETFROM:-0600
TZOFFSETTO:-0500
RDATE:20210314T020000
END:DAYLIGHT
END:VTIMEZONE
BEGIN:VEVENT
UID:a9f4abf4-18f2-4528-9f2a-f6359f753948
DTSTAMP:20260424T115937Z
DESCRIPTION:
DTSTART;TZID=America/Chicago:20200908T090000
DTEND;TZID=America/Chicago:20200908T100000
LOCATION:
SUMMARY:Allison Eschete-Permanency Review
END:VEVENT
END:VCALENDAR
