BEGIN:VCALENDAR
VERSION:2.0
PRODID:-//casaofterrebonne.org//NONSGML kigkonsult.se iCalcreator 2.30.10//
CALSCALE:GREGORIAN
METHOD:PUBLISH
UID:481d1484-feea-4228-9112-d300c28b8803
X-WR-CALDESC:
X-WR-RELCALID:a757ef623bc9318844330def43f22de1
X-WR-TIMEZONE:America/Chicago
BEGIN:VTIMEZONE
TZID:America/Chicago
BEGIN:STANDARD
TZNAME:CST
DTSTART:20181104T020000
TZOFFSETFROM:-0500
TZOFFSETTO:-0600
RDATE:20191103T020000
RDATE:20201101T020000
END:STANDARD
BEGIN:DAYLIGHT
TZNAME:CDT
DTSTART:20190310T020000
TZOFFSETFROM:-0600
TZOFFSETTO:-0500
RDATE:20200308T020000
RDATE:20210314T020000
END:DAYLIGHT
END:VTIMEZONE
BEGIN:VEVENT
UID:bc25fae9-e4dd-47b5-9f3c-10b2455162c4
DTSTAMP:20260422T174211Z
DESCRIPTION:
DTSTART;TZID=America/Chicago:20191025T090000
DTEND;TZID=America/Chicago:20191025T100000
LOCATION:
SUMMARY:Ann Beeson - Termination Hearing
END:VEVENT
END:VCALENDAR
