BEGIN:VCALENDAR
VERSION:2.0
PRODID:-//casaofterrebonne.org//NONSGML kigkonsult.se iCalcreator 2.30.10//
CALSCALE:GREGORIAN
METHOD:PUBLISH
UID:16f620b5-de27-4b3d-b38e-90b9eb588cdf
X-WR-CALDESC:
X-WR-RELCALID:6c6f4028b143d0d1c89846414286c068
X-WR-TIMEZONE:America/Chicago
BEGIN:VTIMEZONE
TZID:America/Chicago
BEGIN:STANDARD
TZNAME:CST
DTSTART:20181104T020000
TZOFFSETFROM:-0500
TZOFFSETTO:-0600
RDATE:20191103T020000
RDATE:20201101T020000
END:STANDARD
BEGIN:DAYLIGHT
TZNAME:CDT
DTSTART:20190310T020000
TZOFFSETFROM:-0600
TZOFFSETTO:-0500
RDATE:20200308T020000
RDATE:20210314T020000
END:DAYLIGHT
END:VTIMEZONE
BEGIN:VEVENT
UID:03d3d6a8-8649-44ac-92c4-12cdefde3e3c
DTSTAMP:20260421T144935Z
DESCRIPTION:
DTSTART;TZID=America/Chicago:20191022T090000
DTEND;TZID=America/Chicago:20191022T100000
LOCATION:
SUMMARY:Tasha Lirette - Permanency Hearing
END:VEVENT
END:VCALENDAR
