BEGIN:VCALENDAR
VERSION:2.0
PRODID:-//casaofterrebonne.org//NONSGML kigkonsult.se iCalcreator 2.30.10//
CALSCALE:GREGORIAN
METHOD:PUBLISH
UID:fa50468a-d8d6-438d-ac65-9ed6f669dbd2
X-WR-CALDESC:Volunteer training session 5 - Class #53
X-WR-RELCALID:b6b19711fb4074baec8bd074c9d8c3bd
X-WR-TIMEZONE:America/Chicago
BEGIN:VTIMEZONE
TZID:America/Chicago
BEGIN:STANDARD
TZNAME:CST
DTSTART:20181104T020000
TZOFFSETFROM:-0500
TZOFFSETTO:-0600
RDATE:20191103T020000
RDATE:20201101T020000
END:STANDARD
BEGIN:DAYLIGHT
TZNAME:CDT
DTSTART:20190310T020000
TZOFFSETFROM:-0600
TZOFFSETTO:-0500
RDATE:20200308T020000
RDATE:20210314T020000
END:DAYLIGHT
END:VTIMEZONE
BEGIN:VEVENT
UID:36862630-a047-4b40-ba87-2b7b96fe9174
DTSTAMP:20260425T195433Z
DESCRIPTION:Volunteer training session 5 - Class #53
DTSTART;TZID=America/Chicago:20191015T173000
DTEND;TZID=America/Chicago:20191015T203000
LOCATION:CASA Office
SUMMARY:Session 5 - Class #53
END:VEVENT
END:VCALENDAR
