BEGIN:VCALENDAR
VERSION:2.0
PRODID:-//casaofterrebonne.org//NONSGML kigkonsult.se iCalcreator 2.30.10//
CALSCALE:GREGORIAN
METHOD:PUBLISH
UID:0c2517b0-757c-4190-8382-fc410dec5abd
X-WR-CALDESC:Our last Judge's Panel was such a success we knew that we need
 ed to do it again. Come out and hear from the 5 Judges of the 32nd JDC. WE
  WILL NOT BE TALKING ABOUT SPECIFICS OF A CASE. If you have a general ques
 tion please submit it with your registration. We will not be allowing open
  questions the night of the panel.
X-WR-RELCALID:438200d35fb4e57ca7d2502449031585
X-WR-TIMEZONE:America/Chicago
BEGIN:VTIMEZONE
TZID:America/Chicago
BEGIN:STANDARD
TZNAME:CST
DTSTART:20251102T020000
TZOFFSETFROM:-0500
TZOFFSETTO:-0600
RDATE:20261101T020000
END:STANDARD
BEGIN:DAYLIGHT
TZNAME:CDT
DTSTART:20250309T020000
TZOFFSETFROM:-0600
TZOFFSETTO:-0500
RDATE:20260308T020000
RDATE:20270314T020000
END:DAYLIGHT
END:VTIMEZONE
BEGIN:VEVENT
UID:f7e67eb0-0880-4961-b969-9f892f6581f2
DTSTAMP:20260424T211301Z
DESCRIPTION:Our last Judge's Panel was such a success we knew that we neede
 d to do it again. Come out and hear from the 5 Judges of the 32nd JDC. WE 
 WILL NOT BE TALKING ABOUT SPECIFICS OF A CASE. If you have a general quest
 ion please submit it with your registration. We will not be allowing open 
 questions the night of the panel.
DTSTART;TZID=America/Chicago:20260224T173000
DTEND;TZID=America/Chicago:20260224T193000
LOCATION:151 Library Drive\, Houma\, LA 70360 US
SUMMARY:32nd JDC Judge's Panel Night
END:VEVENT
END:VCALENDAR
