BEGIN:VCALENDAR
VERSION:2.0
PRODID:-//casaofterrebonne.org//NONSGML kigkonsult.se iCalcreator 2.30.10//
CALSCALE:GREGORIAN
METHOD:PUBLISH
UID:c11c219c-d458-4642-8512-df8ca85b4398
X-WR-CALDESC:Join us with Renee Bertinot as she shares her non profit\, SAR
 AH which was formed to put a face on addiction\, to bring hurting hearts t
 ogether and to stand together to bring awareness to the opioid epidemic in
  our community.
X-WR-RELCALID:f632ccce688650b5b74b0f270215ce58
X-WR-TIMEZONE:America/Chicago
BEGIN:VTIMEZONE
TZID:America/Chicago
BEGIN:STANDARD
TZNAME:CST
DTSTART:20251102T020000
TZOFFSETFROM:-0500
TZOFFSETTO:-0600
RDATE:20261101T020000
END:STANDARD
BEGIN:DAYLIGHT
TZNAME:CDT
DTSTART:20250309T020000
TZOFFSETFROM:-0600
TZOFFSETTO:-0500
RDATE:20260308T020000
RDATE:20270314T020000
END:DAYLIGHT
END:VTIMEZONE
BEGIN:VEVENT
UID:c7b042a7-f821-455a-9eaa-37f1a6fb2164
DTSTAMP:20260424T224347Z
DESCRIPTION:Join us with Renee Bertinot as she shares her non profit\, SARA
 H which was formed to put a face on addiction\, to bring hurting hearts to
 gether and to stand together to bring awareness to the opioid epidemic in 
 our community.
DTSTART;TZID=America/Chicago:20260114T120000
DTEND;TZID=America/Chicago:20260114T130000
LOCATION:402 Canal St\, Houma\, LA 70360-4362 US
SUMMARY:SARAH Training
END:VEVENT
END:VCALENDAR
