BEGIN:VCALENDAR
VERSION:2.0
PRODID:-//casaofterrebonne.org//NONSGML kigkonsult.se iCalcreator 2.30.10//
CALSCALE:GREGORIAN
METHOD:PUBLISH
UID:0e3e8cb0-0c0f-4deb-bb34-d6fa1f4a007b
X-WR-CALDESC:CASA of Terrebonne invites all CASA Volunteers and a guest of 
 their choice to join us in celebrating another successful year of advocacy
 . Enjoy great food\, refreshing drinks\, and a wonderful evening of celebr
 ation. We look forward to seeing you there!
X-WR-RELCALID:b677b02f82b6f37211efeb7195de1881
X-WR-TIMEZONE:America/Chicago
BEGIN:VTIMEZONE
TZID:America/Chicago
BEGIN:STANDARD
TZNAME:CST
DTSTART:20251102T020000
TZOFFSETFROM:-0500
TZOFFSETTO:-0600
RDATE:20261101T020000
END:STANDARD
BEGIN:DAYLIGHT
TZNAME:CDT
DTSTART:20250309T020000
TZOFFSETFROM:-0600
TZOFFSETTO:-0500
RDATE:20260308T020000
RDATE:20270314T020000
END:DAYLIGHT
END:VTIMEZONE
BEGIN:VEVENT
UID:a9a3d6f6-4f27-42ca-8fdd-16a862be7e81
DTSTAMP:20260425T015851Z
DESCRIPTION:CASA of Terrebonne invites all CASA Volunteers and a guest of t
 heir choice to join us in celebrating another successful year of advocacy.
  Enjoy great food\, refreshing drinks\, and a wonderful evening of celebra
 tion. We look forward to seeing you there!
DTSTART;TZID=America/Chicago:20251112T180000
DTEND;TZID=America/Chicago:20251112T220000
LOCATION:3038B Highway 1\, Raceland\, LA 70394 US
SUMMARY:Volunteer Appreciation Social
END:VEVENT
END:VCALENDAR
