BEGIN:VCALENDAR
VERSION:2.0
PRODID:-//casaofterrebonne.org//NONSGML kigkonsult.se iCalcreator 2.30.10//
CALSCALE:GREGORIAN
METHOD:PUBLISH
UID:6c8c95a7-d0ab-41e1-b734-dd3e323dc1c1
X-WR-CALDESC:
X-WR-RELCALID:7b71f7de68480a31b8f9843e9a5da92c
X-WR-TIMEZONE:America/Chicago
BEGIN:VTIMEZONE
TZID:America/Chicago
BEGIN:STANDARD
TZNAME:CST
DTSTART:20241103T020000
TZOFFSETFROM:-0500
TZOFFSETTO:-0600
RDATE:20251102T020000
END:STANDARD
BEGIN:DAYLIGHT
TZNAME:CDT
DTSTART:20250309T020000
TZOFFSETFROM:-0600
TZOFFSETTO:-0500
RDATE:20260308T020000
END:DAYLIGHT
END:VTIMEZONE
BEGIN:VEVENT
UID:d07d4f0b-f1ab-40d7-a2e9-2f202cc40b98
DTSTAMP:20260425T123440Z
DESCRIPTION:
DTSTART;TZID=America/Chicago:20250425T110000
DTEND;TZID=America/Chicago:20250425T150000
LOCATION:CASA of Terrebonne Office\, 402 Canal Street\, Houma\, LA
SUMMARY:Volunteer Crawfish Boil
END:VEVENT
END:VCALENDAR
