BEGIN:VCALENDAR
VERSION:2.0
PRODID:-//casaofterrebonne.org//NONSGML kigkonsult.se iCalcreator 2.30.10//
CALSCALE:GREGORIAN
METHOD:PUBLISH
UID:14f18f05-d126-4780-9952-900b998c998e
X-WR-CALDESC:Join us to hear from our Sheriff\, Police Chief\, Judge\, Assi
 stant District Attorney\, Defense Attorney\, and Family Preservation Court
  Coordinator speak about their professional perspective on the drug epidem
 ic\, trends\, and statistics we are seeing in Terrebonne Parish. Please su
 bmit any questions you have for the panel to Jenny via email.  JDomangue@c
 asaofterrebonne.org
X-WR-RELCALID:803a3e7ee0eeddb1023c34e865316a19
X-WR-TIMEZONE:America/Chicago
BEGIN:VTIMEZONE
TZID:America/Chicago
BEGIN:STANDARD
TZNAME:CST
DTSTART:20241103T020000
TZOFFSETFROM:-0500
TZOFFSETTO:-0600
RDATE:20251102T020000
END:STANDARD
BEGIN:DAYLIGHT
TZNAME:CDT
DTSTART:20250309T020000
TZOFFSETFROM:-0600
TZOFFSETTO:-0500
RDATE:20260308T020000
END:DAYLIGHT
END:VTIMEZONE
BEGIN:VEVENT
UID:77ca8cc5-6d96-40fc-a971-2aa0a02b1dee
DTSTAMP:20260425T140859Z
DESCRIPTION:Join us to hear from our Sheriff\, Police Chief\, Judge\, Assis
 tant District Attorney\, Defense Attorney\, and Family Preservation Court 
 Coordinator speak about their professional perspective on the drug epidemi
 c\, trends\, and statistics we are seeing in Terrebonne Parish. Please sub
 mit any questions you have for the panel to Jenny via email.  JDomangue@ca
 saofterrebonne.org
DTSTART;TZID=America/Chicago:20250313T173000
DTEND;TZID=America/Chicago:20250313T193000
LOCATION:Terrebonne Parish Main Library - DM Room
SUMMARY:The Drug Epidemic in Terrebonne Parish - Law Enforcement and Legal 
 Panel
END:VEVENT
END:VCALENDAR
