BEGIN:VCALENDAR
VERSION:2.0
PRODID:-//casaofterrebonne.org//NONSGML kigkonsult.se iCalcreator 2.30.10//
CALSCALE:GREGORIAN
METHOD:PUBLISH
UID:ee41730c-45f3-418e-964e-9d09eb10360b
X-WR-CALDESC:Trust-Based Relational Intervention (TBRI) is an attachment-ba
 sed trauma-informed intervention that is designed to meet the complex need
 s of vulnerable children. Often\, children from hard places tend to retrea
 t from relationships with others as a form of fear or distrust. In TBRI®’s
  connecting principles\, the focus is to meet a child’s need for relations
 hips through awareness and playful engagement.
X-WR-RELCALID:0f1b6ac6273878c0e5285c4fa9724d2b
X-WR-TIMEZONE:America/Chicago
BEGIN:VTIMEZONE
TZID:America/Chicago
BEGIN:STANDARD
TZNAME:CST
DTSTART:20241103T020000
TZOFFSETFROM:-0500
TZOFFSETTO:-0600
RDATE:20251102T020000
END:STANDARD
BEGIN:DAYLIGHT
TZNAME:CDT
DTSTART:20240310T020000
TZOFFSETFROM:-0600
TZOFFSETTO:-0500
RDATE:20250309T020000
RDATE:20260308T020000
END:DAYLIGHT
END:VTIMEZONE
BEGIN:VEVENT
UID:73e8250d-b260-44b5-9956-980d45d99b26
DTSTAMP:20260425T171332Z
DESCRIPTION:Trust-Based Relational Intervention (TBRI) is an attachment-bas
 ed trauma-informed intervention that is designed to meet the complex needs
  of vulnerable children. Often\, children from hard places tend to retreat
  from relationships with others as a form of fear or distrust. In TBRI®’s 
 connecting principles\, the focus is to meet a child’s need for relationsh
 ips through awareness and playful engagement.
DTSTART;TZID=America/Chicago:20250116T173000
DTEND;TZID=America/Chicago:20250116T204500
LOCATION:CASA of Terrebonne Office\, 402 Canal Street\, Houma\, LA
SUMMARY:TRBI: Connecting
END:VEVENT
END:VCALENDAR
