BEGIN:VCALENDAR
VERSION:2.0
PRODID:-//casaofterrebonne.org//NONSGML kigkonsult.se iCalcreator 2.30.10//
CALSCALE:GREGORIAN
METHOD:PUBLISH
UID:17c0a1f9-be9d-4303-bb28-f55a297f4aa4
X-WR-CALDESC:Tammy Medlen will present strategies to de-escalate behavior u
 sing different forms of communication\, active listening and limit setting
 . De-Escalation is a method to prevent or reduce the intensity of conflict
  and/or violence. Individuals are encouraged to use purposeful actions\, v
 erbal communications\, and body language to calm a  situation.
X-WR-RELCALID:da8b31b3eef821bf38ee126e0472d03d
X-WR-TIMEZONE:America/Chicago
BEGIN:VTIMEZONE
TZID:America/Chicago
BEGIN:STANDARD
TZNAME:CST
DTSTART:20241103T020000
TZOFFSETFROM:-0500
TZOFFSETTO:-0600
RDATE:20251102T020000
END:STANDARD
BEGIN:DAYLIGHT
TZNAME:CDT
DTSTART:20240310T020000
TZOFFSETFROM:-0600
TZOFFSETTO:-0500
RDATE:20250309T020000
RDATE:20260308T020000
END:DAYLIGHT
END:VTIMEZONE
BEGIN:VEVENT
UID:c5ea995e-8932-43e5-8bea-8b5b64eaead6
DTSTAMP:20260425T185115Z
DESCRIPTION:Tammy Medlen will present strategies to de-escalate behavior us
 ing different forms of communication\, active listening and limit setting.
  De-Escalation is a method to prevent or reduce the intensity of conflict 
 and/or violence. Individuals are encouraged to use purposeful actions\, ve
 rbal communications\, and body language to calm a  situation.
DTSTART;TZID=America/Chicago:20241203T173000
DTEND;TZID=America/Chicago:20241203T190000
LOCATION:North Branch Library (Gray\, LA)
SUMMARY:In-Service: De-escalation Training
END:VEVENT
END:VCALENDAR
