BEGIN:VCALENDAR
VERSION:2.0
PRODID:-//casaofterrebonne.org//NONSGML kigkonsult.se iCalcreator 2.30.10//
CALSCALE:GREGORIAN
METHOD:PUBLISH
UID:e27cd295-a955-411e-8b5e-02ce582f6e66
X-WR-CALDESC:As advocates\, it's natural to feel some anxiety about your ca
 se\, court proceedings\, or the unknown. Join your fellow advocates for a 
 supportive discussion about these concerns and hear how others have naviga
 ted similar situations.\n\nThis event will be a potluck\, so feel free to 
 bring your favorite fall soup or chili recipe to share. We’ll provide a gu
 est count closer to the in-service. Costumes are encouraged\, but not requ
 ired—let's have some spooky fun together!
X-WR-RELCALID:e4311b9ef2eb9a23056067a9643e8892
X-WR-TIMEZONE:America/Chicago
BEGIN:VTIMEZONE
TZID:America/Chicago
BEGIN:STANDARD
TZNAME:CST
DTSTART:20231105T020000
TZOFFSETFROM:-0500
TZOFFSETTO:-0600
RDATE:20241103T020000
RDATE:20251102T020000
END:STANDARD
BEGIN:DAYLIGHT
TZNAME:CDT
DTSTART:20240310T020000
TZOFFSETFROM:-0600
TZOFFSETTO:-0500
RDATE:20250309T020000
RDATE:20260308T020000
END:DAYLIGHT
END:VTIMEZONE
BEGIN:VEVENT
UID:c9174a6e-1c14-46ce-bde3-68ab6738ef30
DTSTAMP:20260425T215228Z
DESCRIPTION:As advocates\, it's natural to feel some anxiety about your cas
 e\, court proceedings\, or the unknown. Join your fellow advocates for a s
 upportive discussion about these concerns and hear how others have navigat
 ed similar situations.\n\nThis event will be a potluck\, so feel free to b
 ring your favorite fall soup or chili recipe to share. We’ll provide a gue
 st count closer to the in-service. Costumes are encouraged\, but not requi
 red—let's have some spooky fun together!
DTSTART;TZID=America/Chicago:20241024T173000
DTEND;TZID=America/Chicago:20241024T193000
LOCATION:CASA of Terrebonne Office\, 402 Canal Street\, Houma\, LA
SUMMARY:Advocate Roundtable
END:VEVENT
END:VCALENDAR
