BEGIN:VCALENDAR
VERSION:2.0
PRODID:-//casaofterrebonne.org//NONSGML kigkonsult.se iCalcreator 2.30.10//
CALSCALE:GREGORIAN
METHOD:PUBLISH
UID:34efab2d-bca5-421d-9bf8-e979f7e158e4
X-WR-CALDESC:In the final installment of our TBRI® In-service training seri
 es\, Jenny Domangue will present the TBRI®  Correcting Principles which ai
 m to address a child’s behavioral issues in a positive way. \n\nTwo import
 ant principles in the correcting component are proactive and responsive be
 havioral strategies. Although CASA advocates are advised not to use these 
 Principles with their CASA children\, they can still use the information i
 n their own lives and have a full understanding of the TBRI® model.
X-WR-RELCALID:5a532adf59005668d15fcc140ea8e8a5
X-WR-TIMEZONE:America/Chicago
BEGIN:VTIMEZONE
TZID:America/Chicago
BEGIN:STANDARD
TZNAME:CST
DTSTART:20231105T020000
TZOFFSETFROM:-0500
TZOFFSETTO:-0600
RDATE:20241103T020000
RDATE:20251102T020000
END:STANDARD
BEGIN:DAYLIGHT
TZNAME:CDT
DTSTART:20240310T020000
TZOFFSETFROM:-0600
TZOFFSETTO:-0500
RDATE:20250309T020000
RDATE:20260308T020000
END:DAYLIGHT
END:VTIMEZONE
BEGIN:VEVENT
UID:2da138b1-d6a6-4f13-ad13-0c72c4d9934e
DTSTAMP:20260425T234003Z
DESCRIPTION:In the final installment of our TBRI® In-service training serie
 s\, Jenny Domangue will present the TBRI®  Correcting Principles which aim
  to address a child’s behavioral issues in a positive way. \n\nTwo importa
 nt principles in the correcting component are proactive and responsive beh
 avioral strategies. Although CASA advocates are advised not to use these P
 rinciples with their CASA children\, they can still use the information in
  their own lives and have a full understanding of the TBRI® model.
DTSTART;TZID=America/Chicago:20240910T173000
DTEND;TZID=America/Chicago:20240910T204500
LOCATION:402 Canal Street\, Houma\, LA 70360
SUMMARY:TBRI: Correcting Principles
END:VEVENT
END:VCALENDAR
