BEGIN:VCALENDAR
VERSION:2.0
PRODID:-//casaofterrebonne.org//NONSGML kigkonsult.se iCalcreator 2.30.10//
CALSCALE:GREGORIAN
METHOD:PUBLISH
UID:353e2aae-d186-470e-9c7e-35167a74b03b
X-WR-CALDESC:
X-WR-RELCALID:47c41f5600b656eb2bb4c1c890ecc693
X-WR-TIMEZONE:America/Chicago
BEGIN:VTIMEZONE
TZID:America/Chicago
BEGIN:STANDARD
TZNAME:CST
DTSTART:20231105T020000
TZOFFSETFROM:-0500
TZOFFSETTO:-0600
RDATE:20241103T020000
RDATE:20251102T020000
END:STANDARD
BEGIN:DAYLIGHT
TZNAME:CDT
DTSTART:20240310T020000
TZOFFSETFROM:-0600
TZOFFSETTO:-0500
RDATE:20250309T020000
END:DAYLIGHT
END:VTIMEZONE
BEGIN:VEVENT
UID:b48f08bd-8bfe-450e-8e2a-2232cb6c69f6
DTSTAMP:20260426T011336Z
DESCRIPTION:
DTSTART;TZID=America/Chicago:20240824T083000
DTEND;TZID=America/Chicago:20240824T143000
LOCATION:880 Verret St\, Houma\, AL 70364 US
SUMMARY:Revive: Physical Safety
END:VEVENT
END:VCALENDAR
