BEGIN:VCALENDAR
VERSION:2.0
PRODID:-//casaofterrebonne.org//NONSGML kigkonsult.se iCalcreator 2.30.10//
CALSCALE:GREGORIAN
METHOD:PUBLISH
UID:109b5f61-cde4-4335-adef-da87c6673b7f
X-WR-CALDESC:Naomi Whitney\, Coordinator of Special Education\, will provid
 e information about 504 and IEP services. They will go over who is involve
 d in the decision-making\, the timeframe from identification to receiving 
 services\, and other programs that can assist children who may not meet th
 e criteria but are struggling academically.\n
X-WR-RELCALID:e302bdafef4c859824b6c39855b07f30
X-WR-TIMEZONE:America/Chicago
BEGIN:VTIMEZONE
TZID:America/Chicago
BEGIN:STANDARD
TZNAME:CST
DTSTART:20231105T020000
TZOFFSETFROM:-0500
TZOFFSETTO:-0600
RDATE:20241103T020000
RDATE:20251102T020000
END:STANDARD
BEGIN:DAYLIGHT
TZNAME:CDT
DTSTART:20240310T020000
TZOFFSETFROM:-0600
TZOFFSETTO:-0500
RDATE:20250309T020000
END:DAYLIGHT
END:VTIMEZONE
BEGIN:VEVENT
UID:42a9acff-efa9-4bdf-97dc-335b318365c5
DTSTAMP:20260426T030149Z
DESCRIPTION:Naomi Whitney\, Coordinator of Special Education\, will provide
  information about 504 and IEP services. They will go over who is involved
  in the decision-making\, the timeframe from identification to receiving s
 ervices\, and other programs that can assist children who may not meet the
  criteria but are struggling academically.\n
DTSTART;TZID=America/Chicago:20240726T120000
DTEND;TZID=America/Chicago:20240726T130000
LOCATION:CASA of Terrebonne Office 402 Canal Street\, Houma\, LA 70360
SUMMARY:Lunch & Learn
END:VEVENT
END:VCALENDAR
