BEGIN:VCALENDAR
VERSION:2.0
PRODID:-//casaofterrebonne.org//NONSGML kigkonsult.se iCalcreator 2.30.10//
CALSCALE:GREGORIAN
METHOD:PUBLISH
UID:9a7f4c86-5a85-4c8b-9e79-0cf697911005
X-WR-CALDESC:Join us as we give a space and the time to debrief from the DC
 FS In-Service. During this roundtable we will review what DCFS presented a
 t the previous in-service and your advocate supervisors answer any questio
 ns that may not have been answered or any new questions that may have aris
 en since the in-service.
X-WR-RELCALID:b635db56f83c22ef0d7127005a90b71b
X-WR-TIMEZONE:America/Chicago
BEGIN:VTIMEZONE
TZID:America/Chicago
BEGIN:STANDARD
TZNAME:CST
DTSTART:20231105T020000
TZOFFSETFROM:-0500
TZOFFSETTO:-0600
RDATE:20241103T020000
RDATE:20251102T020000
END:STANDARD
BEGIN:DAYLIGHT
TZNAME:CDT
DTSTART:20240310T020000
TZOFFSETFROM:-0600
TZOFFSETTO:-0500
RDATE:20250309T020000
END:DAYLIGHT
END:VTIMEZONE
BEGIN:VEVENT
UID:5dc6db28-f927-449f-b62e-3d15e73bdcb8
DTSTAMP:20260426T025652Z
DESCRIPTION:Join us as we give a space and the time to debrief from the DCF
 S In-Service. During this roundtable we will review what DCFS presented at
  the previous in-service and your advocate supervisors answer any question
 s that may not have been answered or any new questions that may have arise
 n since the in-service.
DTSTART;TZID=America/Chicago:20240709T173000
DTEND;TZID=America/Chicago:20240709T193000
LOCATION:CASA of Terrebonne Office 402 Canal Street\, Houma\, LA 70360
SUMMARY:Advocate Roundtable
END:VEVENT
END:VCALENDAR
