BEGIN:VCALENDAR
VERSION:2.0
PRODID:-//casaofterrebonne.org//NONSGML kigkonsult.se iCalcreator 2.30.10//
CALSCALE:GREGORIAN
METHOD:PUBLISH
UID:9582a830-8270-4958-973a-cb05952c0f93
X-WR-CALDESC:This training will introduce the participant to the importance
  of cultural awareness and cultural sensitivity in our daily lives. Myths 
 about people\, places\, and things are prevalent in our society. During th
 e training\, participants will examine some of the false truths that can i
 nfluence an individual’s view of the world.\n\nLearning Objectives\nUpon c
 ompletion of the training\, the participant shall be able to:\n1. How prog
 ramming affects the ways we view ourselves and others.\n2. Identify blind 
 spots and the understanding of them.\n3. Demonstrate basic cultural compet
 ency skills that the participant can use to enhance and improve the intera
 ctions they have with co-workers\, consumers\, and the general public.
X-WR-RELCALID:ea5320cd41fda2bfbacb14abdc80e785
X-WR-TIMEZONE:America/Chicago
BEGIN:VTIMEZONE
TZID:America/Chicago
BEGIN:STANDARD
TZNAME:CST
DTSTART:20201101T020000
TZOFFSETFROM:-0500
TZOFFSETTO:-0600
RDATE:20211107T020000
END:STANDARD
BEGIN:DAYLIGHT
TZNAME:CDT
DTSTART:20200308T020000
TZOFFSETFROM:-0600
TZOFFSETTO:-0500
RDATE:20210314T020000
RDATE:20220313T020000
END:DAYLIGHT
END:VTIMEZONE
BEGIN:VEVENT
UID:d000a855-4705-4263-ba1f-fc8993a889fa
DTSTAMP:20260421T183751Z
DESCRIPTION:This training will introduce the participant to the importance 
 of cultural awareness and cultural sensitivity in our daily lives. Myths a
 bout people\, places\, and things are prevalent in our society. During the
  training\, participants will examine some of the false truths that can in
 fluence an individual’s view of the world.\n\nLearning Objectives\nUpon co
 mpletion of the training\, the participant shall be able to:\n1. How progr
 amming affects the ways we view ourselves and others.\n2. Identify blind s
 pots and the understanding of them.\n3. Demonstrate basic cultural compete
 ncy skills that the participant can use to enhance and improve the interac
 tions they have with co-workers\, consumers\, and the general public.
DTSTART;TZID=America/Chicago:20210225T180000
DTEND;TZID=America/Chicago:20210225T190000
LOCATION:Via Zoom
SUMMARY:In-Service
END:VEVENT
END:VCALENDAR
